{
 "currentVersion": 10.81,
 "serviceDescription": "Orthos2014",
 "name": "Orthos2014",
 "description": "",
 "extent": {
  "xmin": 12742000,
  "ymin": 461500,
  "xmax": 12874500,
  "ymax": 659000,
  "spatialReference": {
   "wkt": "PROJCS[\"NAD_1983_StatePlane_Michigan_South_FIPS_2113_IntlFeet\",GEOGCS[\"GCS_North_American_1983\",DATUM[\"D_North_American_1983\",SPHEROID[\"GRS_1980\",6378137.0,298.257222101]],PRIMEM[\"Greenwich\",0.0],UNIT[\"Degree\",0.0174532925199433]],PROJECTION[\"Lambert_Conformal_Conic\"],PARAMETER[\"False_Easting\",13123359.58005249],PARAMETER[\"False_Northing\",0.0],PARAMETER[\"Central_Meridian\",-84.36666666666666],PARAMETER[\"Standard_Parallel_1\",42.1],PARAMETER[\"Standard_Parallel_2\",43.66666666666666],PARAMETER[\"Latitude_Of_Origin\",41.5],UNIT[\"Foot\",0.3048]]"
  }
 },
 "initialExtent": {
  "xmin": 12742000,
  "ymin": 461500,
  "xmax": 12874500,
  "ymax": 659000,
  "spatialReference": {
   "wkt": "PROJCS[\"NAD_1983_StatePlane_Michigan_South_FIPS_2113_IntlFeet\",GEOGCS[\"GCS_North_American_1983\",DATUM[\"D_North_American_1983\",SPHEROID[\"GRS_1980\",6378137.0,298.257222101]],PRIMEM[\"Greenwich\",0.0],UNIT[\"Degree\",0.0174532925199433]],PROJECTION[\"Lambert_Conformal_Conic\"],PARAMETER[\"False_Easting\",13123359.58005249],PARAMETER[\"False_Northing\",0.0],PARAMETER[\"Central_Meridian\",-84.36666666666666],PARAMETER[\"Standard_Parallel_1\",42.1],PARAMETER[\"Standard_Parallel_2\",43.66666666666666],PARAMETER[\"Latitude_Of_Origin\",41.5],UNIT[\"Foot\",0.3048]]"
  }
 },
 "fullExtent": {
  "xmin": 12742000,
  "ymin": 461500,
  "xmax": 12874500,
  "ymax": 659000,
  "spatialReference": {
   "wkt": "PROJCS[\"NAD_1983_StatePlane_Michigan_South_FIPS_2113_IntlFeet\",GEOGCS[\"GCS_North_American_1983\",DATUM[\"D_North_American_1983\",SPHEROID[\"GRS_1980\",6378137.0,298.257222101]],PRIMEM[\"Greenwich\",0.0],UNIT[\"Degree\",0.0174532925199433]],PROJECTION[\"Lambert_Conformal_Conic\"],PARAMETER[\"False_Easting\",13123359.58005249],PARAMETER[\"False_Northing\",0.0],PARAMETER[\"Central_Meridian\",-84.36666666666666],PARAMETER[\"Standard_Parallel_1\",42.1],PARAMETER[\"Standard_Parallel_2\",43.66666666666666],PARAMETER[\"Latitude_Of_Origin\",41.5],UNIT[\"Foot\",0.3048]]"
  }
 },
 "pixelSizeX": 0.5,
 "pixelSizeY": 0.5,
 "datasetFormat": "AMD",
 "uncompressedSize": 418700000000,
 "blockWidth": 2048,
 "blockHeight": 256,
 "compressionType": "None",
 "bandNames": [
  "Red",
  "Green",
  "Blue",
  "Infrared"
 ],
 "allowCopy": true,
 "allowAnalysis": true,
 "bandCount": 4,
 "pixelType": "U8",
 "minPixelSize": 0.3559034895847569,
 "maxPixelSize": 182.29203125072917,
 "copyrightText": "",
 "serviceDataType": "esriImageServiceDataTypeGeneric",
 "serviceSourceType": "esriImageServiceSourceTypeMosaicDataset",
 "minValues": [
  1,
  2,
  1,
  1
 ],
 "maxValues": [
  253,
  253,
  255,
  251
 ],
 "meanValues": [
  101.06088664649869,
  90.25790611739386,
  72.75285464844781,
  148.89278115038678
 ],
 "stdvValues": [
  39.13651762776448,
  34.6235762880103,
  30.946359318941436,
  36.90897279654503
 ],
 "objectIdField": "OBJECTID",
 "fields": [
  {
   "name": "OBJECTID",
   "type": "esriFieldTypeOID",
   "alias": "OBJECTID",
   "domain": null
  },
  {
   "name": "Name",
   "type": "esriFieldTypeString",
   "alias": "Name",
   "domain": null,
   "length": 50
  },
  {
   "name": "MinPS",
   "type": "esriFieldTypeDouble",
   "alias": "MinPS",
   "domain": null
  },
  {
   "name": "MaxPS",
   "type": "esriFieldTypeDouble",
   "alias": "MaxPS",
   "domain": null
  },
  {
   "name": "LowPS",
   "type": "esriFieldTypeDouble",
   "alias": "LowPS",
   "domain": null
  },
  {
   "name": "HighPS",
   "type": "esriFieldTypeDouble",
   "alias": "HighPS",
   "domain": null
  },
  {
   "name": "Category",
   "type": "esriFieldTypeInteger",
   "alias": "Category",
   "domain": {
    "type": "codedValue",
    "name": "MosaicCatalogItemCategoryDomain",
    "description": "Catalog item categories.",
    "codedValues": [
     {
      "name": "Unknown",
      "code": 0
     },
     {
      "name": "Primary",
      "code": 1
     },
     {
      "name": "Overview",
      "code": 2
     },
     {
      "name": "Unprocessed Overview",
      "code": 3
     },
     {
      "name": "Partial Overview",
      "code": 4
     },
     {
      "name": "Uploaded",
      "code": 253
     },
     {
      "name": "Incomplete",
      "code": 254
     },
     {
      "name": "Custom",
      "code": 255
     }
    ],
    "mergePolicy": "esriMPTDefaultValue",
    "splitPolicy": "esriSPTDefaultValue"
   }
  },
  {
   "name": "Tag",
   "type": "esriFieldTypeString",
   "alias": "Tag",
   "domain": null,
   "length": 20
  },
  {
   "name": "GroupName",
   "type": "esriFieldTypeString",
   "alias": "GroupName",
   "domain": null,
   "length": 50
  },
  {
   "name": "ProductName",
   "type": "esriFieldTypeString",
   "alias": "ProductName",
   "domain": null,
   "length": 50
  },
  {
   "name": "CenterX",
   "type": "esriFieldTypeDouble",
   "alias": "CenterX",
   "domain": null
  },
  {
   "name": "CenterY",
   "type": "esriFieldTypeDouble",
   "alias": "CenterY",
   "domain": null
  },
  {
   "name": "ZOrder",
   "type": "esriFieldTypeInteger",
   "alias": "ZOrder",
   "domain": null
  },
  {
   "name": "Shape",
   "type": "esriFieldTypeGeometry",
   "alias": "Shape",
   "domain": null
  },
  {
   "name": "Shape.STArea()",
   "type": "esriFieldTypeDouble",
   "alias": "Shape.STArea()",
   "domain": null
  },
  {
   "name": "Shape.STLength()",
   "type": "esriFieldTypeDouble",
   "alias": "Shape.STLength()",
   "domain": null
  }
 ],
 "capabilities": "Image,Metadata",
 "defaultMosaicMethod": "Northwest",
 "allowedMosaicMethods": "NorthWest,Center,LockRaster,ByAttribute,Nadir,Viewpoint,Seamline,None",
 "sortField": "",
 "sortValue": null,
 "sortAscending": true,
 "mosaicOperator": "First",
 "maxDownloadSizeLimit": 2048,
 "defaultCompressionQuality": 75,
 "defaultResamplingMethod": "Bilinear",
 "maxImageHeight": 4100,
 "maxImageWidth": 15000,
 "maxRecordCount": 1000,
 "maxDownloadImageCount": 20,
 "maxMosaicImageCount": 20,
 "singleFusedMapCache": true,
 "tileInfo": {
  "rows": 256,
  "cols": 256,
  "dpi": 96,
  "format": "JPEG",
  "compressionQuality": 75,
  "origin": {
   "x": -107138600,
   "y": 143330100
  },
  "spatialReference": {
   "wkt": "PROJCS[\"NAD_1983_StatePlane_Michigan_South_FIPS_2113_IntlFeet\",GEOGCS[\"GCS_North_American_1983\",DATUM[\"D_North_American_1983\",SPHEROID[\"GRS_1980\",6378137.0,298.257222101]],PRIMEM[\"Greenwich\",0.0],UNIT[\"Degree\",0.0174532925199433]],PROJECTION[\"Lambert_Conformal_Conic\"],PARAMETER[\"False_Easting\",13123359.58005249],PARAMETER[\"False_Northing\",0.0],PARAMETER[\"Central_Meridian\",-84.36666666666666],PARAMETER[\"Standard_Parallel_1\",42.1],PARAMETER[\"Standard_Parallel_2\",43.66666666666666],PARAMETER[\"Latitude_Of_Origin\",41.5],UNIT[\"Foot\",0.3048]]"
  },
  "lods": [
   {
    "level": 0,
    "resolution": 182.29203125072917,
    "scale": 210000
   },
   {
    "level": 1,
    "resolution": 91.14601562536458,
    "scale": 105000
   },
   {
    "level": 2,
    "resolution": 45.57300781268229,
    "scale": 52500
   },
   {
    "level": 3,
    "resolution": 22.786503906341146,
    "scale": 26250
   },
   {
    "level": 4,
    "resolution": 11.393251953170573,
    "scale": 13125
   },
   {
    "level": 5,
    "resolution": 5.696191947939451,
    "scale": 6562
   },
   {
    "level": 6,
    "resolution": 2.8480959739697256,
    "scale": 3281
   },
   {
    "level": 7,
    "resolution": 1.4236139583390277,
    "scale": 1640
   },
   {
    "level": 8,
    "resolution": 1.0416687500041666,
    "scale": 1200
   },
   {
    "level": 9,
    "resolution": 0.7118069791695139,
    "scale": 820
   },
   {
    "level": 10,
    "resolution": 0.3559034895847569,
    "scale": 410
   }
  ]
 },
 "cacheType": "Map",
 "allowRasterFunction": true,
 "rasterFunctionInfos": [
  {
   "name": "None",
   "description": "",
   "help": ""
  }
 ],
 "rasterTypeInfos": [
  {
   "name": "Raster Dataset",
   "description": "Supports all ArcGIS Raster Datasets",
   "help": ""
  }
 ],
 "mensurationCapabilities": "",
 "hasHistograms": true,
 "hasColormap": false,
 "hasRasterAttributeTable": false,
 "minScale": 210000,
 "maxScale": 410,
 "exportTilesAllowed": false,
 "hasMultidimensions": false,
 "supportsStatistics": true,
 "supportsAdvancedQueries": true,
 "editFieldsInfo": null,
 "ownershipBasedAccessControlForRasters": null,
 "allowComputeTiePoints": false,
 "useStandardizedQueries": true,
 "advancedQueryCapabilities": {
  "useStandardizedQueries": true,
  "supportsStatistics": true,
  "supportsOrderBy": true,
  "supportsDistinct": true,
  "supportsPagination": true
 },
 "spatialReference": {
  "wkt": "PROJCS[\"NAD_1983_StatePlane_Michigan_South_FIPS_2113_IntlFeet\",GEOGCS[\"GCS_North_American_1983\",DATUM[\"D_North_American_1983\",SPHEROID[\"GRS_1980\",6378137.0,298.257222101]],PRIMEM[\"Greenwich\",0.0],UNIT[\"Degree\",0.0174532925199433]],PROJECTION[\"Lambert_Conformal_Conic\"],PARAMETER[\"False_Easting\",13123359.58005249],PARAMETER[\"False_Northing\",0.0],PARAMETER[\"Central_Meridian\",-84.36666666666666],PARAMETER[\"Standard_Parallel_1\",42.1],PARAMETER[\"Standard_Parallel_2\",43.66666666666666],PARAMETER[\"Latitude_Of_Origin\",41.5],UNIT[\"Foot\",0.3048]]"
 }
}
